BEGIN:VCALENDAR
VERSION:2.0
BEGIN:VEVENT
UID:ics69eca5ff0ec1a
DTSTAMP:20260425T113111Z
LOCATION:
DESCRIPTION:
URL:https://www.familien-nordkirche.de/bestellmaterial/detail/registerierung-kartenset-erweiterung/
SUMMARY:Erweiterung Kartenset „Mit Familien unterwegs“
DTSTART:20260101T090000Z
DTEND:19691231T210000Z
END:VEVENT
END:VCALENDAR
