BEGIN:VCALENDAR
VERSION:2.0
BEGIN:VEVENT
UID:ics69e8cac40c271
DTSTAMP:20260422T131900Z
LOCATION:DIGITAL
DESCRIPTION:
URL:https://www.aeltere-nordkirche.de/veranstaltung/spiritual-care-verstehen-begleitung-die-den-ganzen-menschen-sieht-1449073/
SUMMARY:Spiritual Care verstehen: Begleitung\, die den ganzen Menschen sieht
DTSTART:20260603T080000Z
DTEND:20260603T093000Z
END:VEVENT
END:VCALENDAR
